BEGIN:VCALENDAR
VERSION:2.0
PRODID:-//Amicale Rippeger Pompjee - ECPv5.3.0//NONSGML v1.0//EN
CALSCALE:GREGORIAN
METHOD:PUBLISH
X-WR-CALNAME:Amicale Rippeger Pompjee
X-ORIGINAL-URL:https://schwengsgronn.lu
X-WR-CALDESC:Events for Amicale Rippeger Pompjee
BEGIN:VTIMEZONE
TZID:UTC
BEGIN:STANDARD
TZOFFSETFROM:+0000
TZOFFSETTO:+0000
TZNAME:UTC
DTSTART:20190101T000000
END:STANDARD
END:VTIMEZONE
BEGIN:VEVENT
DTSTART;TZID=UTC:20190117T193000
DTEND;TZID=UTC:20190117T193000
DTSTAMP:20210420T173538
CREATED:20190110T224925Z
LAST-MODIFIED:20190110T231432Z
UID:14127-1547753400-1547753400@schwengsgronn.lu
SUMMARY:Antoniuskirmes
DESCRIPTION:
URL:https://schwengsgronn.lu/event/antoniuskirmes/
LOCATION:Rippeger Pomjeesbau\, 7\, am Pesch\, Rippig\, L-6246\, Luxembourg
ATTACH;FMTTYPE=image/png:https://schwengsgronn.lu/wp-content/uploads/2019/01/illu_cochon_kermesse-e1547162059444.png
ORGANIZER;CN="Amicale%20Rippeger%20Pompjee":MAILTO:info@schwengsgronn.lu
END:VEVENT
END:VCALENDAR