BEGIN:VCALENDAR
VERSION:2.0
PRODID:-//Amicale Rippeger Pompjee - ECPv5.3.0//NONSGML v1.0//EN
CALSCALE:GREGORIAN
METHOD:PUBLISH
X-WR-CALNAME:Amicale Rippeger Pompjee
X-ORIGINAL-URL:https://schwengsgronn.lu
X-WR-CALDESC:Events for Amicale Rippeger Pompjee
BEGIN:VTIMEZONE
TZID:UTC
BEGIN:STANDARD
TZOFFSETFROM:+0000
TZOFFSETTO:+0000
TZNAME:UTC
DTSTART:20200101T000000
END:STANDARD
END:VTIMEZONE
BEGIN:VEVENT
DTSTART;TZID=UTC:20200125T200000
DTEND;TZID=UTC:20200125T200000
DTSTAMP:20210420T173531
CREATED:20200120T153152Z
LAST-MODIFIED:20200120T153219Z
UID:14279-1579982400-1579982400@schwengsgronn.lu
SUMMARY:Cabaret Batter Séiss - Et geet ëm de FRIC
DESCRIPTION:Zu Rippeg am Pompjësbau\norganiséiert vun der\nAmicale Rippeger Pompjee \nUfank: 20 Auer\nEntrée: 17 EUR\nze iwwerweisen op den\nCCPLL LU83 1111 7030 0344 0000 \nReservatioun:\n+352 621 176 235 (Rob Wagner)\nfree seating \n​\n ​weider Informatiounen op \nwww.batterseiss.lu​​
URL:https://schwengsgronn.lu/event/cabaret-batter-seiss-et-geet-em-de-fric/
END:VEVENT
END:VCALENDAR