BEGIN:VCALENDAR
VERSION:2.0
PRODID:-//Amicale Rippeger Pompjee - ECPv5.1.2.1//NONSGML v1.0//EN
CALSCALE:GREGORIAN
METHOD:PUBLISH
X-WR-CALNAME:Amicale Rippeger Pompjee
X-ORIGINAL-URL:https://schwengsgronn.lu
X-WR-CALDESC:Events for Amicale Rippeger Pompjee
BEGIN:VTIMEZONE
TZID:UTC
BEGIN:STANDARD
TZOFFSETFROM:+0000
TZOFFSETTO:+0000
TZNAME:UTC
DTSTART:20180101T000000
END:STANDARD
END:VTIMEZONE
BEGIN:VEVENT
DTSTART;TZID=UTC:20181216T160000
DTEND;TZID=UTC:20181216T220000
DTSTAMP:20200812T091336
CREATED:20190110T225121Z
LAST-MODIFIED:20190110T231210Z
UID:14134-1544976000-1544997600@schwengsgronn.lu
SUMMARY:Chrëschtfeier fir d’Léit aus dem Duerf
DESCRIPTION:
URL:https://schwengsgronn.lu/event/chreschtfeier-fir-dleit-aus-dem-duerf/
LOCATION:Rippeger Pomjeesbau\, 7\, am Pesch\, Rippig\, L-6246\, Luxembourg
ATTACH;FMTTYPE=image/jpeg:https://schwengsgronn.lu/wp-content/uploads/2019/01/x-mas-2018.jpg
ORGANIZER;CN="Amicale%20Rippeger%20Pompjee":MAILTO:info@schwengsgronn.lu
END:VEVENT
END:VCALENDAR